Package: HiCcompare Version: 1.22.1 Command: /Library/Frameworks/R.framework/Resources/bin/R CMD check --install=check:HiCcompare.install-out.txt --library=/Library/Frameworks/R.framework/Resources/library --no-vignettes --timings HiCcompare_1.22.1.tar.gz StartedAt: 2023-10-18 00:33:24 -0400 (Wed, 18 Oct 2023) EndedAt: 2023-10-18 00:39:05 -0400 (Wed, 18 Oct 2023) EllapsedTime: 340.6 seconds RetCode: 0 Status: OK CheckDir: HiCcompare.Rcheck Warnings: 0