Package: HiCcompare Version: 1.22.1 Command: /Library/Frameworks/R.framework/Resources/bin/R CMD build --keep-empty-dirs --no-resave-data HiCcompare StartedAt: 2023-10-16 05:57:17 -0400 (Mon, 16 Oct 2023) EndedAt: 2023-10-16 06:00:19 -0400 (Mon, 16 Oct 2023) EllapsedTime: 181.9 seconds RetCode: 0 Status: OK PackageFile: HiCcompare_1.22.1.tar.gz PackageFileSize: 3.55 MiB