git_url: https://git.bioconductor.org/packages/Herper git_branch: RELEASE_3_17 git_last_commit: 0c8f316 git_last_commit_date: 2023-07-12 13:47:15 -0400 (Wed, 12 Jul 2023) Package: Herper Version: 1.10.1 Maintainer: Thomas Carroll MaintainerEmail: tc.infomatics at gmail.com