Package: HIREewas Version: 1.18.0 Command: /Library/Frameworks/R.framework/Resources/bin/R CMD check --install=check:HIREewas.install-out.txt --library=/Library/Frameworks/R.framework/Resources/library --no-vignettes --timings HIREewas_1.18.0.tar.gz StartedAt: 2023-10-18 00:56:21 -0400 (Wed, 18 Oct 2023) EndedAt: 2023-10-18 00:58:53 -0400 (Wed, 18 Oct 2023) EllapsedTime: 151.9 seconds RetCode: 0 Status: OK CheckDir: HIREewas.Rcheck Warnings: 0