Package: HIREewas Version: 1.18.0 Command: /Library/Frameworks/R.framework/Resources/bin/R CMD build --keep-empty-dirs --no-resave-data HIREewas StartedAt: 2023-10-16 06:12:45 -0400 (Mon, 16 Oct 2023) EndedAt: 2023-10-16 06:14:58 -0400 (Mon, 16 Oct 2023) EllapsedTime: 133.1 seconds RetCode: 0 Status: OK PackageFile: HIREewas_1.18.0.tar.gz PackageFileSize: 266.1 KiB