Package: GraphAlignment Version: 1.64.0 Command: /Library/Frameworks/R.framework/Resources/bin/R CMD check --install=check:GraphAlignment.install-out.txt --library=/Library/Frameworks/R.framework/Resources/library --no-vignettes --timings GraphAlignment_1.64.0.tar.gz StartedAt: 2023-10-17 23:27:25 -0400 (Tue, 17 Oct 2023) EndedAt: 2023-10-17 23:28:11 -0400 (Tue, 17 Oct 2023) EllapsedTime: 46.1 seconds RetCode: 0 Status: OK CheckDir: GraphAlignment.Rcheck Warnings: 0