Package: GraphAlignment Version: 1.64.0 Command: /Library/Frameworks/R.framework/Resources/bin/R CMD build --keep-empty-dirs --no-resave-data GraphAlignment StartedAt: 2023-10-16 05:15:56 -0400 (Mon, 16 Oct 2023) EndedAt: 2023-10-16 05:16:14 -0400 (Mon, 16 Oct 2023) EllapsedTime: 18.0 seconds RetCode: 0 Status: OK PackageFile: GraphAlignment_1.64.0.tar.gz PackageFileSize: 591.5 KiB