Package: GraphAlignment Version: 1.64.0 Command: rm -rf GraphAlignment.buildbin-libdir && mkdir GraphAlignment.buildbin-libdir && /Users/biocbuild/BBS/utils/build-universal.sh GraphAlignment_1.64.0.tar.gz /Library/Frameworks/R.framework/Resources/bin/R GraphAlignment.buildbin-libdir StartedAt: 2023-10-19 13:51:02 -0400 (Thu, 19 Oct 2023) EndedAt: 2023-10-19 13:51:11 -0400 (Thu, 19 Oct 2023) EllapsedTime: 8.9 seconds RetCode: 0 Status: OK PackageFile: GraphAlignment_1.64.0.tgz PackageFileSize: 573.2 KiB