Package: GenomicDistributions Version: 1.8.0 Command: rm -rf GenomicDistributions.buildbin-libdir && mkdir GenomicDistributions.buildbin-libdir && /Users/biocbuild/BBS/utils/build-universal.sh GenomicDistributions_1.8.0.tar.gz /Library/Frameworks/R.framework/Resources/bin/R GenomicDistributions.buildbin-libdir StartedAt: 2023-10-19 13:38:13 -0400 (Thu, 19 Oct 2023) EndedAt: 2023-10-19 13:39:04 -0400 (Thu, 19 Oct 2023) EllapsedTime: 50.0 seconds RetCode: 0 Status: OK PackageFile: GenomicDistributions_1.8.0.tgz PackageFileSize: 5.615 MiB