Package: GenomicDataCommons Version: 1.24.3 Command: /Library/Frameworks/R.framework/Resources/bin/R CMD check --install=check:GenomicDataCommons.install-out.txt --library=/Library/Frameworks/R.framework/Resources/library --no-vignettes --timings GenomicDataCommons_1.24.3.tar.gz StartedAt: 2023-10-17 21:32:35 -0400 (Tue, 17 Oct 2023) EndedAt: 2023-10-17 21:35:10 -0400 (Tue, 17 Oct 2023) EllapsedTime: 155.0 seconds RetCode: 0 Status: OK CheckDir: GenomicDataCommons.Rcheck Warnings: 0