Package: GenomicDataCommons Version: 1.24.3 Command: /Library/Frameworks/R.framework/Resources/bin/R CMD build --keep-empty-dirs --no-resave-data GenomicDataCommons StartedAt: 2023-10-16 04:07:36 -0400 (Mon, 16 Oct 2023) EndedAt: 2023-10-16 04:09:11 -0400 (Mon, 16 Oct 2023) EllapsedTime: 95.1 seconds RetCode: 0 Status: OK PackageFile: GenomicDataCommons_1.24.3.tar.gz PackageFileSize: 2.386 MiB