Package: GeneticsPed Version: 1.62.1 Command: rm -rf GeneticsPed.buildbin-libdir && mkdir GeneticsPed.buildbin-libdir && /Users/biocbuild/BBS/utils/build-universal.sh GeneticsPed_1.62.1.tar.gz /Library/Frameworks/R.framework/Resources/bin/R GeneticsPed.buildbin-libdir StartedAt: 2023-10-19 13:35:35 -0400 (Thu, 19 Oct 2023) EndedAt: 2023-10-19 13:36:12 -0400 (Thu, 19 Oct 2023) EllapsedTime: 36.6 seconds RetCode: 0 Status: OK PackageFile: GeneticsPed_1.62.1.tgz PackageFileSize: 822.8 KiB