Package: GeneStructureTools Version: 1.20.0 Command: rm -rf GeneStructureTools.buildbin-libdir && mkdir GeneStructureTools.buildbin-libdir && /Users/biocbuild/BBS/utils/build-universal.sh GeneStructureTools_1.20.0.tar.gz /Library/Frameworks/R.framework/Resources/bin/R GeneStructureTools.buildbin-libdir StartedAt: 2023-10-19 13:35:23 -0400 (Thu, 19 Oct 2023) EndedAt: 2023-10-19 13:37:38 -0400 (Thu, 19 Oct 2023) EllapsedTime: 135.1 seconds RetCode: 0 Status: OK PackageFile: GeneStructureTools_1.20.0.tgz PackageFileSize: 2.039 MiB