Package: GeneAccord Version: 1.18.0 Command: /Library/Frameworks/R.framework/Resources/bin/R CMD INSTALL GeneAccord StartedAt: 2023-10-15 19:36:20 -0400 (Sun, 15 Oct 2023) EndedAt: 2023-10-15 19:37:01 -0400 (Sun, 15 Oct 2023) EllapsedTime: 41.2 seconds RetCode: 0 Status: OK