Package: GateFinder Version: 1.20.0 Command: /Library/Frameworks/R.framework/Resources/bin/R CMD check --install=check:GateFinder.install-out.txt --library=/Library/Frameworks/R.framework/Resources/library --no-vignettes --timings GateFinder_1.20.0.tar.gz StartedAt: 2023-10-17 20:41:20 -0400 (Tue, 17 Oct 2023) EndedAt: 2023-10-17 20:43:29 -0400 (Tue, 17 Oct 2023) EllapsedTime: 128.2 seconds RetCode: 0 Status: WARNINGS CheckDir: GateFinder.Rcheck Warnings: 1