git_url: https://git.bioconductor.org/packages/GWASTools git_branch: RELEASE_3_17 git_last_commit: bfec04d git_last_commit_date: 2023-04-25 10:21:17 -0400 (Tue, 25 Apr 2023) Package: GWASTools Version: 1.46.0 Maintainer: Stephanie M. Gogarten MaintainerEmail: sdmorris at uw.edu