Package: GWAS.BAYES Version: 1.10.0 Command: rm -rf GWAS.BAYES.buildbin-libdir && mkdir GWAS.BAYES.buildbin-libdir && /Users/biocbuild/BBS/utils/build-universal.sh GWAS.BAYES_1.10.0.tar.gz /Library/Frameworks/R.framework/Resources/bin/R GWAS.BAYES.buildbin-libdir StartedAt: 2023-10-19 13:55:19 -0400 (Thu, 19 Oct 2023) EndedAt: 2023-10-19 13:55:37 -0400 (Thu, 19 Oct 2023) EllapsedTime: 18.1 seconds RetCode: 0 Status: OK PackageFile: GWAS.BAYES_1.10.0.tgz PackageFileSize: 1.694 MiB