Package: GSVA Version: 1.48.3 Command: /Library/Frameworks/R.framework/Resources/bin/R CMD check --install=check:GSVA.install-out.txt --library=/Library/Frameworks/R.framework/Resources/library --no-vignettes --timings GSVA_1.48.3.tar.gz StartedAt: 2023-10-17 23:52:59 -0400 (Tue, 17 Oct 2023) EndedAt: 2023-10-18 00:00:07 -0400 (Wed, 18 Oct 2023) EllapsedTime: 428.5 seconds RetCode: 0 Status: OK CheckDir: GSVA.Rcheck Warnings: 0