Package: GSVA Version: 1.48.3 Command: /Library/Frameworks/R.framework/Resources/bin/R CMD build --keep-empty-dirs --no-resave-data GSVA StartedAt: 2023-10-16 05:29:55 -0400 (Mon, 16 Oct 2023) EndedAt: 2023-10-16 05:35:51 -0400 (Mon, 16 Oct 2023) EllapsedTime: 356.1 seconds RetCode: 0 Status: OK PackageFile: GSVA_1.48.3.tar.gz PackageFileSize: 2.201 MiB