Package: GSRI Version: 2.48.0 Command: /Library/Frameworks/R.framework/Resources/bin/R CMD INSTALL GSRI StartedAt: 2023-10-15 18:12:47 -0400 (Sun, 15 Oct 2023) EndedAt: 2023-10-15 18:13:28 -0400 (Sun, 15 Oct 2023) EllapsedTime: 40.8 seconds RetCode: 0 Status: OK