Package: GRENITS Version: 1.52.1 Command: /Library/Frameworks/R.framework/Resources/bin/R CMD build --keep-empty-dirs --no-resave-data GRENITS StartedAt: 2023-10-16 05:16:48 -0400 (Mon, 16 Oct 2023) EndedAt: 2023-10-16 05:19:26 -0400 (Mon, 16 Oct 2023) EllapsedTime: 158.4 seconds RetCode: 0 Status: OK PackageFile: GRENITS_1.52.1.tar.gz PackageFileSize: 267.1 KiB