Package: GPA Version: 1.12.0 Command: /Library/Frameworks/R.framework/Resources/bin/R CMD build --keep-empty-dirs --no-resave-data GPA StartedAt: 2023-10-16 05:08:12 -0400 (Mon, 16 Oct 2023) EndedAt: 2023-10-16 05:10:48 -0400 (Mon, 16 Oct 2023) EllapsedTime: 156.1 seconds RetCode: 0 Status: OK PackageFile: GPA_1.12.0.tar.gz PackageFileSize: 311.2 KiB