git_url: https://git.bioconductor.org/packages/GPA git_branch: RELEASE_3_17 git_last_commit: 3b7ede6 git_last_commit_date: 2023-04-25 11:16:49 -0400 (Tue, 25 Apr 2023) Package: GPA Version: 1.12.0 Maintainer: Dongjun Chung MaintainerEmail: dongjun.chung at gmail.com