git_url: https://git.bioconductor.org/packages/GMRP git_branch: RELEASE_3_17 git_last_commit: c4c33b1 git_last_commit_date: 2023-04-25 11:02:39 -0400 (Tue, 25 Apr 2023) Package: GMRP Version: 1.28.0 Maintainer: Yuan-De Tan MaintainerEmail: tanyuande at gmail.com