Package: GGPA Version: 1.12.1 Command: /Library/Frameworks/R.framework/Resources/bin/R CMD build --keep-empty-dirs --no-resave-data GGPA StartedAt: 2023-10-16 04:28:14 -0400 (Mon, 16 Oct 2023) EndedAt: 2023-10-16 04:30:17 -0400 (Mon, 16 Oct 2023) EllapsedTime: 123.3 seconds RetCode: 0 Status: OK PackageFile: GGPA_1.12.1.tar.gz PackageFileSize: 4.711 MiB