git_url: https://git.bioconductor.org/packages/GCSscore git_branch: RELEASE_3_17 git_last_commit: 2199e92 git_last_commit_date: 2023-04-25 11:13:56 -0400 (Tue, 25 Apr 2023) Package: GCSscore Version: 1.14.0 Maintainer: Guy M. Harris MaintainerEmail: harrisgm at vcu.edu