Package: FoldGO Version: 1.18.0 Command: /Library/Frameworks/R.framework/Resources/bin/R CMD build --keep-empty-dirs --no-resave-data FoldGO StartedAt: 2023-10-16 03:40:44 -0400 (Mon, 16 Oct 2023) EndedAt: 2023-10-16 03:44:15 -0400 (Mon, 16 Oct 2023) EllapsedTime: 210.9 seconds RetCode: 0 Status: OK PackageFile: FoldGO_1.18.0.tar.gz PackageFileSize: 779 KiB