Package: FlowSOM Version: 2.8.0 Command: /Library/Frameworks/R.framework/Resources/bin/R CMD INSTALL FlowSOM StartedAt: 2023-10-15 19:39:19 -0400 (Sun, 15 Oct 2023) EndedAt: 2023-10-15 19:39:45 -0400 (Sun, 15 Oct 2023) EllapsedTime: 26.0 seconds RetCode: 0 Status: OK