Package: FlowSOM Version: 2.8.0 Command: /Library/Frameworks/R.framework/Resources/bin/R CMD check --install=check:FlowSOM.install-out.txt --library=/Library/Frameworks/R.framework/Resources/library --no-vignettes --timings FlowSOM_2.8.0.tar.gz StartedAt: 2023-10-17 20:07:57 -0400 (Tue, 17 Oct 2023) EndedAt: 2023-10-17 20:21:53 -0400 (Tue, 17 Oct 2023) EllapsedTime: 835.5 seconds RetCode: 0 Status: OK CheckDir: FlowSOM.Rcheck Warnings: 0