Package: FlowSOM Version: 2.8.0 Command: /Library/Frameworks/R.framework/Resources/bin/R CMD build --keep-empty-dirs --no-resave-data FlowSOM StartedAt: 2023-10-16 03:36:40 -0400 (Mon, 16 Oct 2023) EndedAt: 2023-10-16 03:39:19 -0400 (Mon, 16 Oct 2023) EllapsedTime: 158.6 seconds RetCode: 0 Status: OK PackageFile: FlowSOM_2.8.0.tar.gz PackageFileSize: 5.794 MiB