Package: EpiDISH Version: 2.16.0 Command: /Library/Frameworks/R.framework/Resources/bin/R CMD build --keep-empty-dirs --no-resave-data EpiDISH StartedAt: 2023-10-16 02:42:50 -0400 (Mon, 16 Oct 2023) EndedAt: 2023-10-16 02:43:17 -0400 (Mon, 16 Oct 2023) EllapsedTime: 27.1 seconds RetCode: 0 Status: OK PackageFile: EpiDISH_2.16.0.tar.gz PackageFileSize: 2.828 MiB