Package: EBSeq Version: 1.40.0 Command: /Library/Frameworks/R.framework/Resources/bin/R CMD check --install=check:EBSeq.install-out.txt --library=/Library/Frameworks/R.framework/Resources/library --no-vignettes --timings EBSeq_1.40.0.tar.gz StartedAt: 2023-10-17 17:12:01 -0400 (Tue, 17 Oct 2023) EndedAt: 2023-10-17 17:14:04 -0400 (Tue, 17 Oct 2023) EllapsedTime: 122.5 seconds RetCode: 0 Status: OK CheckDir: EBSeq.Rcheck Warnings: 0