Package: EBSeq Version: 1.40.0 Command: rm -rf EBSeq.buildbin-libdir && mkdir EBSeq.buildbin-libdir && /Users/biocbuild/BBS/utils/build-universal.sh EBSeq_1.40.0.tar.gz /Library/Frameworks/R.framework/Resources/bin/R EBSeq.buildbin-libdir StartedAt: 2023-10-19 12:59:21 -0400 (Thu, 19 Oct 2023) EndedAt: 2023-10-19 12:59:44 -0400 (Thu, 19 Oct 2023) EllapsedTime: 22.9 seconds RetCode: 0 Status: OK PackageFile: EBSeq_1.40.0.tgz PackageFileSize: 1.424 MiB