############################################################################## ############################################################################## ### ### Running command: ### ### /Library/Frameworks/R.framework/Resources/bin/R CMD check --install=check:EBImage.install-out.txt --library=/Library/Frameworks/R.framework/Resources/library --no-vignettes --timings EBImage_4.42.0.tar.gz ### ############################################################################## ############################################################################## * using log directory ‘/Users/biocbuild/bbs-3.17-bioc-mac-arm64/meat/EBImage.Rcheck’ * using R version 4.3.1 (2023-06-16) * using platform: aarch64-apple-darwin20 (64-bit) * R was compiled by Apple clang version 14.0.0 (clang-1400.0.29.202) GNU Fortran (GCC) 12.2.0 * running under: macOS Monterey 12.6.7 * using session charset: UTF-8 * using option ‘--no-vignettes’ * checking for file ‘EBImage/DESCRIPTION’ ... OK * this is package ‘EBImage’ version ‘4.42.0’ * package encoding: UTF-8 * checking package namespace information ... OK * checking package dependencies ... OK * checking if this is a source package ... OK * checking if there is a namespace ... OK * checking for hidden files and directories ... OK * checking for portable file names ... OK * checking for sufficient/correct file permissions ... OK * checking whether package ‘EBImage’ can be installed ... OK * used C compiler: ‘Apple clang version 14.0.0 (clang-1400.0.29.202)’ * used C++ compiler: ‘Apple clang version 14.0.0 (clang-1400.0.29.202)’ * used SDK: ‘MacOSX11.3.sdk’ * checking installed package size ... OK * checking package directory ... OK * checking ‘build’ directory ... OK * checking DESCRIPTION meta-information ... OK * checking top-level files ... OK * checking for left-over files ... OK * checking index information ... OK * checking package subdirectories ... OK * checking R files for non-ASCII characters ... OK * checking R files for syntax errors ... OK * checking whether the package can be loaded ... OK * checking whether the package can be loaded with stated dependencies ... OK * checking whether the package can be unloaded cleanly ... OK * checking whether the namespace can be loaded with stated dependencies ... OK * checking whether the namespace can be unloaded cleanly ... OK * checking dependencies in R code ... OK * checking S3 generic/method consistency ... OK * checking replacement functions ... OK * checking foreign function calls ... OK * checking R code for possible problems ... OK * checking Rd files ... OK * checking Rd metadata ... OK * checking Rd cross-references ... OK * checking for missing documentation entries ... OK * checking for code/documentation mismatches ... OK * checking Rd \usage sections ... OK * checking Rd contents ... OK * checking for unstated dependencies in examples ... OK * checking line endings in C/C++/Fortran sources/headers ... OK * checking compiled code ... NOTE Note: information on .o files is not available * checking files in ‘vignettes’ ... OK * checking examples ... OK Examples with CPU (user + system) or elapsed time > 5s user system elapsed EBImage 3.574 0.191 6.026 * checking for unstated dependencies in ‘tests’ ... OK * checking tests ... Running ‘test.R’ Comparing ‘test.Rout’ to ‘test.Rout.save’ ...231c231,234 < checking IO for 'logo' ... FAIL --- > checking IO for 'logo' ... PASS > Warning message: > In readTIFF(x, all = all, ...) : > TIFFReadDirectory: Sum of Photometric type-related color channels and ExtraSamples doesn't match SamplesPerPixel. Defining non-color channels as ExtraSamples. 238c241 < checking 'hist' ............................... PASS (d722533c4f3f4627) Inf --- > checking 'hist' ............................... PASS (8ef6dc298b72d591) Inf 254c257 < checking 'display' ............................ PASS (68b260509c7ab340) 189.7 --- > checking 'display' ............................ PASS (4c9befc7a9f9f22e) 165.3 313c316 < checking 'hist' ............................... PASS (30119fb81dbf2fbb) Inf --- > checking 'hist' ............................... PASS (c32dc2571db86a0f) Inf 329c332 < checking 'display' ............................ PASS (2b8c45decab7535f) 174.7 --- > checking 'display' ............................ PASS (174250a6d96dee60) 150.3 390c393 < checking 'hist' ............................... PASS (c2351b10676ca4d4) 20513.55 --- > checking 'hist' ............................... PASS (e7a708b4f96f88dc) 20513.55 406c409 < checking 'display' ............................ PASS (2f08603669942058) 421.7 --- > checking 'display' ............................ PASS (dada341199e50c3d) 397.3 416c419 < checking 'affine' ............................. PASS (92c11c6e5052b938) 54171.17 --- > checking 'affine' ............................. PASS (11616142290451c1) 54171.17 483c486 < checking 'display' ............................ PASS (fb5a878c739fdf0a) 357.7 --- > checking 'display' ............................ PASS (bb2b4586191eb980) 333.3 493c496 < checking 'affine' ............................. PASS (35bec4ccdaf2463e) 22238.15 --- > checking 'affine' ............................. PASS (7a760844869cec92) 22238.15 506c509 < checking 'computeFeatures' .................... PASS (f164490fb0dee33c) 3989501 --- > checking 'computeFeatures' .................... PASS (c1ff2e62e7bb8eee) 3989786 560c563 < checking 'display' ............................ PASS (38b074e79a93b661) 330.7 --- > checking 'display' ............................ PASS (3d646d4f07d194ba) 306.3 570c573 < checking 'affine' ............................. PASS (32209f57348dd548) 226067.6 --- > checking 'affine' ............................. PASS (517c3559acf97cf4) 226067.6 583c586 < checking 'computeFeatures' .................... PASS (32ce4bb20cb59594) 746878.2 --- > checking 'computeFeatures' .................... PASS (a33c53edd3cf8a46) 746878.2 639c642 < checking 'display' ............................ PASS (0f4b8075d5f24755) 309.7 --- > checking 'display' ............................ PASS (2fb2fcab54a4ea5a) 285.3 649c652 < checking 'affine' ............................. PASS (bda1db47d7023850) 133467.8 --- > checking 'affine' ............................. PASS (a6e552f84324fe21) 133467.8 662c665 < checking 'computeFeatures' .................... PASS (2561f1b745b56d57) 416103592 --- > checking 'computeFeatures' .................... PASS (1bf064e6a11f2410) 416164140 668c671 < checking 'gblur' .............................. PASS (fd8945a2f8d02a20) 1037581 --- > checking 'gblur' .............................. PASS (9224b720f9d00006) 1037581 717c720 < checking 'display' ............................ PASS (ef6dce96392bbb6d) 263.7 --- > checking 'display' ............................ PASS (bc877f5317c575b2) 239.3 727c730 < checking 'affine' ............................. PASS (b203915e173b06a9) 301692.6 --- > checking 'affine' ............................. PASS (592877c7d17e1d22) 301692.6 740c743 < checking 'computeFeatures' .................... PASS (21362a3596854ad6) 749353.1 --- > checking 'computeFeatures' .................... PASS (151a0d98d309d0b1) 749353.1 795c798 < checking 'display' ............................ PASS (4ca607589cc2787e) 280.7 --- > checking 'display' ............................ PASS (d28e3e75eed04056) 256.3 805c808 < checking 'affine' ............................. PASS (025a0bef51d8aca8) 219714.6 --- > checking 'affine' ............................. PASS (76f6b18d2cb7c9c2) 219714.6 818c821 < checking 'computeFeatures' .................... PASS (00ba92f836052e9b) 734993.9 --- > checking 'computeFeatures' .................... PASS (53798e843cdbfa9f) 734993.9 873c876 < checking 'display' ............................ PASS (4ca607589cc2787e) 280.7 --- > checking 'display' ............................ PASS (d28e3e75eed04056) 256.3 883c886 < checking 'affine' ............................. PASS (517a53da8934734e) 219714.6 --- > checking 'affine' ............................. PASS (559df6f741145f7f) 219714.6 896c899 < checking 'computeFeatures' .................... PASS (00ba92f836052e9b) 734993.9 --- > checking 'computeFeatures' .................... PASS (53798e843cdbfa9f) 734993.9 OK * checking for unstated dependencies in vignettes ... OK * checking package vignettes in ‘inst/doc’ ... OK * checking running R code from vignettes ... SKIPPED * checking re-building of vignette outputs ... SKIPPED * checking PDF version of manual ... OK * DONE Status: 1 NOTE See ‘/Users/biocbuild/bbs-3.17-bioc-mac-arm64/meat/EBImage.Rcheck/00check.log’ for details.