Package: EBImage Version: 4.42.0 Command: /Library/Frameworks/R.framework/Resources/bin/R CMD build --keep-empty-dirs --no-resave-data EBImage StartedAt: 2023-10-16 02:19:57 -0400 (Mon, 16 Oct 2023) EndedAt: 2023-10-16 02:20:52 -0400 (Mon, 16 Oct 2023) EllapsedTime: 55.6 seconds RetCode: 0 Status: OK PackageFile: EBImage_4.42.0.tar.gz PackageFileSize: 5.218 MiB