Package: DepecheR Version: 1.16.0 Command: /Library/Frameworks/R.framework/Resources/bin/R CMD INSTALL DepecheR StartedAt: 2023-10-15 16:11:30 -0400 (Sun, 15 Oct 2023) EndedAt: 2023-10-15 16:12:22 -0400 (Sun, 15 Oct 2023) EllapsedTime: 52.5 seconds RetCode: 0 Status: OK