Package: DepecheR Version: 1.16.0 Command: /Library/Frameworks/R.framework/Resources/bin/R CMD build --keep-empty-dirs --no-resave-data DepecheR StartedAt: 2023-10-16 01:27:14 -0400 (Mon, 16 Oct 2023) EndedAt: 2023-10-16 01:28:23 -0400 (Mon, 16 Oct 2023) EllapsedTime: 69.2 seconds RetCode: 0 Status: OK PackageFile: DepecheR_1.16.0.tar.gz PackageFileSize: 2.559 MiB