Package: DepecheR Version: 1.16.0 Command: rm -rf DepecheR.buildbin-libdir && mkdir DepecheR.buildbin-libdir && /Users/biocbuild/BBS/utils/build-universal.sh DepecheR_1.16.0.tar.gz /Library/Frameworks/R.framework/Resources/bin/R DepecheR.buildbin-libdir StartedAt: 2023-10-19 12:44:01 -0400 (Thu, 19 Oct 2023) EndedAt: 2023-10-19 12:45:22 -0400 (Thu, 19 Oct 2023) EllapsedTime: 80.6 seconds RetCode: 0 Status: OK PackageFile: DepecheR_1.16.0.tgz PackageFileSize: 2.733 MiB