Package: DNAshapeR Version: 1.28.0 Command: /Library/Frameworks/R.framework/Resources/bin/R CMD build --keep-empty-dirs --no-resave-data DNAshapeR StartedAt: 2023-10-16 02:00:07 -0400 (Mon, 16 Oct 2023) EndedAt: 2023-10-16 02:02:07 -0400 (Mon, 16 Oct 2023) EllapsedTime: 119.7 seconds RetCode: 0 Status: OK PackageFile: DNAshapeR_1.28.0.tar.gz PackageFileSize: 1.091 MiB