Package: DNABarcodeCompatibility Version: 1.15.0 Command: rm -rf DNABarcodeCompatibility.buildbin-libdir && mkdir DNABarcodeCompatibility.buildbin-libdir && /Users/biocbuild/BBS/utils/build-universal.sh DNABarcodeCompatibility_1.15.0.tar.gz /Library/Frameworks/R.framework/Resources/bin/R DNABarcodeCompatibility.buildbin-libdir StartedAt: 2023-03-14 14:54:05 -0400 (Tue, 14 Mar 2023) EndedAt: 2023-03-14 14:54:11 -0400 (Tue, 14 Mar 2023) EllapsedTime: 6.1 seconds RetCode: 0 Status: OK PackageFile: DNABarcodeCompatibility_1.15.0.tgz PackageFileSize: 320.3 KiB