Package: DMRforPairs Version: 1.35.0 Command: rm -rf DMRforPairs.buildbin-libdir && mkdir DMRforPairs.buildbin-libdir && /Users/biocbuild/BBS/utils/build-universal.sh DMRforPairs_1.35.0.tar.gz /Library/Frameworks/R.framework/Resources/bin/R DMRforPairs.buildbin-libdir StartedAt: 2023-03-14 14:53:51 -0400 (Tue, 14 Mar 2023) EndedAt: 2023-03-14 14:54:21 -0400 (Tue, 14 Mar 2023) EllapsedTime: 30.3 seconds RetCode: 0 Status: OK PackageFile: DMRforPairs_1.35.0.tgz PackageFileSize: 2.079 MiB