Package: DMRcaller Version: 1.32.0 Command: /Library/Frameworks/R.framework/Resources/bin/R CMD check --install=check:DMRcaller.install-out.txt --library=/Library/Frameworks/R.framework/Resources/library --no-vignettes --timings DMRcaller_1.32.0.tar.gz StartedAt: 2023-10-17 16:11:09 -0400 (Tue, 17 Oct 2023) EndedAt: 2023-10-17 16:18:12 -0400 (Tue, 17 Oct 2023) EllapsedTime: 423.0 seconds RetCode: 0 Status: OK CheckDir: DMRcaller.Rcheck Warnings: 0