Package: CrispRVariants Version: 1.28.0 Command: /Library/Frameworks/R.framework/Resources/bin/R CMD INSTALL CrispRVariants StartedAt: 2023-10-15 16:17:17 -0400 (Sun, 15 Oct 2023) EndedAt: 2023-10-15 16:18:35 -0400 (Sun, 15 Oct 2023) EllapsedTime: 78.0 seconds RetCode: 0 Status: OK