Package: CrispRVariants Version: 1.28.0 Command: /Library/Frameworks/R.framework/Resources/bin/R CMD build --keep-empty-dirs --no-resave-data CrispRVariants StartedAt: 2023-10-16 00:38:14 -0400 (Mon, 16 Oct 2023) EndedAt: 2023-10-16 00:41:50 -0400 (Mon, 16 Oct 2023) EllapsedTime: 216.7 seconds RetCode: 0 Status: OK PackageFile: CrispRVariants_1.28.0.tar.gz PackageFileSize: 1.111 MiB