Package: CrispRVariants Version: 1.28.0 Command: rm -rf CrispRVariants.buildbin-libdir && mkdir CrispRVariants.buildbin-libdir && /Users/biocbuild/BBS/utils/build-universal.sh CrispRVariants_1.28.0.tar.gz /Library/Frameworks/R.framework/Resources/bin/R CrispRVariants.buildbin-libdir StartedAt: 2023-10-19 12:27:33 -0400 (Thu, 19 Oct 2023) EndedAt: 2023-10-19 12:29:32 -0400 (Thu, 19 Oct 2023) EllapsedTime: 118.7 seconds RetCode: 0 Status: OK PackageFile: CrispRVariants_1.28.0.tgz PackageFileSize: 1.729 MiB