Package: Category Version: 2.66.0 Command: /Library/Frameworks/R.framework/Resources/bin/R CMD build --keep-empty-dirs --no-resave-data Category StartedAt: 2023-10-15 22:41:17 -0400 (Sun, 15 Oct 2023) EndedAt: 2023-10-15 22:43:14 -0400 (Sun, 15 Oct 2023) EllapsedTime: 117.9 seconds RetCode: 0 Status: OK PackageFile: Category_2.66.0.tar.gz PackageFileSize: 874.8 KiB