Package: CTDquerier Version: 2.8.0 Command: /Library/Frameworks/R.framework/Resources/bin/R CMD check --install=check:CTDquerier.install-out.txt --library=/Library/Frameworks/R.framework/Resources/library --no-vignettes --timings CTDquerier_2.8.0.tar.gz StartedAt: 2023-10-17 13:20:41 -0400 (Tue, 17 Oct 2023) EndedAt: 2023-10-17 13:23:37 -0400 (Tue, 17 Oct 2023) EllapsedTime: 176.1 seconds RetCode: 0 Status: WARNINGS CheckDir: CTDquerier.Rcheck Warnings: 1