Package: CSSP Version: 1.37.0 Command: rm -rf CSSP.buildbin-libdir && mkdir CSSP.buildbin-libdir && /Users/biocbuild/BBS/utils/build-universal.sh CSSP_1.37.0.tar.gz /Library/Frameworks/R.framework/Resources/bin/R CSSP.buildbin-libdir StartedAt: 2023-03-25 10:40:34 -0400 (Sat, 25 Mar 2023) EndedAt: 2023-03-25 10:40:39 -0400 (Sat, 25 Mar 2023) EllapsedTime: 5.1 seconds RetCode: 0 Status: OK PackageFile: CSSP_1.37.0.tgz PackageFileSize: 974.1 KiB