Package: CRImage Version: 1.48.0 Command: /Library/Frameworks/R.framework/Resources/bin/R CMD check --install=check:CRImage.install-out.txt --library=/Library/Frameworks/R.framework/Resources/library --no-vignettes --timings CRImage_1.48.0.tar.gz StartedAt: 2023-10-17 12:35:27 -0400 (Tue, 17 Oct 2023) EndedAt: 2023-10-17 12:38:12 -0400 (Tue, 17 Oct 2023) EllapsedTime: 165.7 seconds RetCode: 0 Status: OK CheckDir: CRImage.Rcheck Warnings: 0