Package: CRImage Version: 1.48.0 Command: rm -rf CRImage.buildbin-libdir && mkdir CRImage.buildbin-libdir && /Users/biocbuild/BBS/utils/build-universal.sh CRImage_1.48.0.tar.gz /Library/Frameworks/R.framework/Resources/bin/R CRImage.buildbin-libdir StartedAt: 2023-10-19 12:25:50 -0400 (Thu, 19 Oct 2023) EndedAt: 2023-10-19 12:26:22 -0400 (Thu, 19 Oct 2023) EllapsedTime: 32.6 seconds RetCode: 0 Status: OK PackageFile: CRImage_1.48.0.tgz PackageFileSize: 6.549 MiB